Workbook

Sheet Consignes
B2: ASPECT · Académie Excel
B3: Fichier de ventes et catalogue — CORRIGÉ
B4: Niveau Intermédiaire · durée conseillée : 30 à 45 min
B6: Objectif
B7: Relier un fichier de ventes à un catalogue de prix, puis analyser le CA par région.
B9: Étapes
B10: 1. Feuille Ventes, colonne E : retrouvez le prix unitaire de chaque référence dans la feuille Catalogue avec RECHERCHEX (Excel 365/2021) ou INDEX + EQUIV (toutes versions, utilisé dans le corrigé).
B11: 2. Une référence n'existe pas dans le catalogue : faites afficher « Réf inconnue » plutôt que #N/A (4e argument de RECHERCHEX ou SIERREUR).
B12: 3. Colonne F : calculez le montant (quantité × prix). Laissez vide si la référence est inconnue (SI + ESTNOMBRE ou SIERREUR).
B13: 4. Feuille Synthèse : calculez le CA de chaque région avec SOMME.SI.
B14: 5. Feuille Synthèse : comptez le nombre de ventes de plus de 500 € avec NB.SI.
B15: 6. Feuille Synthèse : calculez le CA du Nord sur le produit Écran avec SOMME.SI.ENS.
... B21: Formation Excel gratuite et interactive : aspectexcel.com/formation

Sheet Catalogue
A1: Réf | B1: Produit | C1: Prix unitaire
A2: P01 | B2: Clavier | C2: 39
A3: P02 | B3: Souris | C3: 19
A4: P03 | B4: Écran | C4: 189
A5: P04 | B5: Casque | C5: 59
A6: P05 | B6: Webcam | C6: 49
A7: P06 | B7: Dock USB-C | C7: 89
A8: P07 | B8: Tapis | C8: 12
A9: P08 | B9: Câble HDMI | C9: 9
A10: P09 | B10: Hub USB | C10: 25
A11: P10 | B11: Support écran | C11: 45

Sheet Ventes
A1: Date | B1: Réf | C1: Quantité | D1: Région | E1: Prix unitaire | F1: Montant
A2: 46272 | B2: P06 | C2: 8 | D2: Sud | E2: =IFERROR(INDEX(Catalogue!$C$2:$C$11,MATCH(B2,Catalogue!$A$2:$A$11,0)),"Réf inconnue") | F2: =IFERROR(C2*E2,"")
A3: 46298 | B3: P10 | C3: 1 | D3: Nord | E3: =IFERROR(INDEX(Catalogue!$C$2:$C$11,MATCH(B3,Catalogue!$A$2:$A$11,0)),"Réf inconnue") | F3: =IFERROR(C3*E3,"")
A4: 46274 | B4: P09 | C4: 1 | D4: Est | E4: =IFERROR(INDEX(Catalogue!$C$2:$C$11,MATCH(B4,Catalogue!$A$2:$A$11,0)),"Réf inconnue") | F4: =IFERROR(C4*E4,"")
A5: 46277 | B5: P02 | C5: 6 | D5: Est | E5: =IFERROR(INDEX(Catalogue!$C$2:$C$11,MATCH(B5,Catalogue!$A$2:$A$11,0)),"Réf inconnue") | F5: =IFERROR(C5*E5,"")
A6: 46270 | B6: P05 | C6: 4 | D6: Ouest | E6: =IFERROR(INDEX(Catalogue!$C$2:$C$11,MATCH(B6,Catalogue!$A$2:$A$11,0)),"Réf inconnue") | F6: =IFERROR(C6*E6,"")
A7: 46296 | B7: P08 | C7: 3 | D7: Ouest | E7: =IFERROR(INDEX(Catalogue!$C$2:$C$11,MATCH(B7,Catalogue!$A$2:$A$11,0)),"Réf inconnue") | F7: =IFERROR(C7*E7,"")
A8: 46280 | B8: P06 | C8: 8 | D8: Nord | E8: =IFERROR(INDEX(Catalogue!$C$2:$C$11,MATCH(B8,Catalogue!$A$2:$A$11,0)),"Réf inconnue") | F8: =IFERROR(C8*E8,"")
A9: 46303 | B9: P10 | C9: 5 | D9: Sud | E9: =IFERROR(INDEX(Catalogue!$C$2:$C$11,MATCH(B9,Catalogue!$A$2:$A$11,0)),"Réf inconnue") | F9: =IFERROR(C9*E9,"")
A10: 46299 | B10: P09 | C10: 2 | D10: Sud | E10: =IFERROR(INDEX(Catalogue!$C$2:$C$11,MATCH(B10,Catalogue!$A$2:$A$11,0)),"Réf inconnue") | F10: =IFERROR(C10*E10,"")
A11: 46283 | B11: P08 | C11: 7 | D11: Est | E11: =IFERROR(INDEX(Catalogue!$C$2:$C$11,MATCH(B11,Catalogue!$A$2:$A$11,0)),"Réf inconnue") | F11: =IFERROR(C11*E11,"")
A12: 46296 | B12: P01 | C12: 2 | D12: Nord | E12: =IFERROR(INDEX(Catalogue!$C$2:$C$11,MATCH(B12,Catalogue!$A$2:$A$11,0)),"Réf inconnue") | F12: =IFERROR(C12*E12,"")
A13: 46281 | B13: P02 | C13: 5 | D13: Nord | E13: =IFERROR(INDEX(Catalogue!$C$2:$C$11,MATCH(B13,Catalogue!$A$2:$A$11,0)),"Réf inconnue") | F13: =IFERROR(C13*E13,"")
... A41: 46302 | B41: P09 | C41: 1 | D41: Ouest | E41: =IFERROR(INDEX(Catalogue!$C$2:$C$11,MATCH(B41,Catalogue!$A$2:$A$11,0)),"Réf inconnue") | F41: =IFERROR(C41*E41,"")

Sheet Synthèse
A1: Région | B1: CA
A2: Nord | B2: =SUMIF(Ventes!$D$2:$D$41,A2,Ventes!$F$2:$F$41)
A3: Sud | B3: =SUMIF(Ventes!$D$2:$D$41,A3,Ventes!$F$2:$F$41)
A4: Est | B4: =SUMIF(Ventes!$D$2:$D$41,A4,Ventes!$F$2:$F$41)
A5: Ouest | B5: =SUMIF(Ventes!$D$2:$D$41,A5,Ventes!$F$2:$F$41)
A8: Ventes > 500 € | B8: =COUNTIF(Ventes!$F$2:$F$41,">500")
A9: CA Nord · Écran (P03) | B9: =SUMIFS(Ventes!$F$2:$F$41,Ventes!$D$2:$D$41,"Nord",Ventes!$B$2:$B$41,"P03")
